BEGIN:VCALENDAR
VERSION:2.0
PRODID:-//eventon.com NONSGML v1.0//EN
CALSCALE:GREGORIAN
METHOD:PUBLISH
BEGIN:VEVENT
UID:69e761b328563
DTSTAMP:20260421T113827Z
DTSTART:20240803T080000Z
DTEND:20240804T180000Z
LOCATION:
SUMMARY:Hooper-Seminar mit Geli Augustin
DESCRIPTION:[pdf-embedder url="https://hundesport-daxweiler.de/wp-content/u
 ploads/2024/03/2024-08.-03-Hoopers-Einladung.-Externe-mit-Nicoles-Email.pdf
 " title="Hoopers"]\nhttps://hundesport-daxweiler.de/events/hooper-seminar-m
 it-geli-augustin/
URL:https://hundesport-daxweiler.de/events/hooper-seminar-mit-geli-augustin/
END:VEVENT
END:VCALENDAR